BEGIN:VCALENDAR
VERSION:2.0
PRODID:-//DACCI CIC - ECPv6.9.0//NONSGML v1.0//EN
CALSCALE:GREGORIAN
METHOD:PUBLISH
X-WR-CALNAME:DACCI CIC
X-ORIGINAL-URL:https://dacci.co.uk
X-WR-CALDESC:Events for DACCI CIC
REFRESH-INTERVAL;VALUE=DURATION:PT1H
X-Robots-Tag:noindex
X-PUBLISHED-TTL:PT1H
BEGIN:VTIMEZONE
TZID:UTC
BEGIN:STANDARD
TZOFFSETFROM:+0000
TZOFFSETTO:+0000
TZNAME:UTC
DTSTART:20250101T000000
END:STANDARD
END:VTIMEZONE
BEGIN:VEVENT
DTSTART;TZID=UTC:20250622T150000
DTEND;TZID=UTC:20250622T180000
DTSTAMP:20260420T095502
CREATED:20250609T141001Z
LAST-MODIFIED:20250609T141001Z
UID:14391-1750604400-1750615200@dacci.co.uk
SUMMARY:Sisters Talk Launch: Windrush Women Remembrance
DESCRIPTION:Hey Sisters\nWe’re excited to invite you to our special event:\nSisters Talk Launch: Windrush Women Remembrance \nWe’re coming together to honour the legacy of Windrush women and celebrate the return of Sisters Talk — a safe\, empowering space for Black women of African and African-Caribbean heritage. \nWe’ll also be introducing new parts of our programme focused on wellbeing\, healing\, and financial empowerment — all made possible with support from The National Lottery Community Fund. \nEvent details:\n🗓 Sunday 22 June 2025\n🕒 3PM – 6PM\n📍 Bramblebrook Community Centre\, Derby\n🎟️ Free | Child-friendly | Booking required\n✨ Light refreshments provided\nLet’s reconnect\, reflect\, and rise — together. \nhttps://www.eventbrite.co.uk/e/sisters-talk-launch-windrush-women-remembrance-tickets-1374198086469
URL:https://dacci.co.uk/index.php/event/sisters-talk-launch-windrush-women-remembrance/
LOCATION:Bramblebrook Community Centre\, Stockbrook Street\, Derby\, DE223WH\, United Kingdom
CATEGORIES:Women's Club
ATTACH;FMTTYPE=image/jpeg:https://dacci.co.uk/wp-content/uploads/2025/06/PHOTO-2025-05-31-10-34-49.jpg
END:VEVENT
END:VCALENDAR