BEGIN:VCALENDAR
VERSION:2.0
PRODID:-//DACCI CIC - ECPv6.9.0//NONSGML v1.0//EN
CALSCALE:GREGORIAN
METHOD:PUBLISH
X-ORIGINAL-URL:https://dacci.co.uk
X-WR-CALDESC:Events for DACCI CIC
REFRESH-INTERVAL;VALUE=DURATION:PT1H
X-Robots-Tag:noindex
X-PUBLISHED-TTL:PT1H
BEGIN:VTIMEZONE
TZID:UTC
BEGIN:STANDARD
TZOFFSETFROM:+0000
TZOFFSETTO:+0000
TZNAME:UTC
DTSTART:20250101T000000
END:STANDARD
END:VTIMEZONE
BEGIN:VEVENT
DTSTART;TZID=UTC:20250713T103000
DTEND;TZID=UTC:20250928T130000
DTSTAMP:20260420T101003
CREATED:20240607T125809Z
LAST-MODIFIED:20250625T192456Z
UID:12190-1752402600-1759064400@dacci.co.uk
SUMMARY:Community Nature Wellbeing Activities
DESCRIPTION:Community Nature Wellbeing Activities\n\nAn amazing opportunity for people who love the countryside.\nOutdoor Adventures on privately owned land in the Derbyshire Dales\,\nEnjoy fun activities or simply relax in peaceful surroundings.\nSo join us and sample the idyllic Derbyshire countryside on our doorstep. \n\n…Activities include…\nBushcraft\nIncluding fire lighting/ tree and bird identification/ a walk around the site plus an intro to foraging – wild garlic\, mushrooms\, nettles\, sorrel\, etc. Finish with a hot drink around a campfire. \nGreen Woodland Workshop\nIntroduction woodworking using traditional woodland tools like a shaving horse.  You can split and cleave wood to make a simple bird box\, spoons and other items out of natural wood sourced on site. \nForest Bathing\nSlowly wonder the site\, maybe find a tree or spot you like or even hang in a hammock and take in the sounds and sense of the woodland. \nRambling\nTake a walk around the 20\,000 square metre site set in a majestic woodland. \nCooking Outdoors\nAn introduction to cooking on an open wood fire. \nChildren’s Activities\nAs above plus den making (equipment supplied). Please note children must have parental supervision. \nOrientation Games\nFind and photograph four specified objects dotted around the site\, with a map as a guide. Fun for all. \n| For all ages | Family Friendly | Transport Options Available |\n\nPlease note: \n\nActivities will start from 10:30 and finish at 14:00\nOption to stay on site until 16:30\nRefreshments provided.\nCertified instructors deliver and supervise all activities.\nEnhanced DBS and Children’s Safeguarding Policies in place\nCost are subsidised\, although a nominal fee will be charge to secure your place\n\n\nThere will be 4 taster sessions\, primarily held on a Saturday or Sunday between May ‘25 and October ’25. \nAlthough week days are available during school holidays. \n\nPlease RSVP below to register your interest. \nWe will contact you with details of dates and times. \nThankyou \nDACCI Admin Team.
URL:https://dacci.co.uk/index.php/event/outdoor-adventures/
LOCATION:Craft Wood\, DE557LW
CATEGORIES:Outdoor
ATTACH;FMTTYPE=image/png:https://dacci.co.uk/wp-content/uploads/2024/06/nature-wellbeing-activities-2.png
ORGANIZER;CN="DACCI":MAILTO:info@dacci.co.uk
END:VEVENT
BEGIN:VEVENT
DTSTART;TZID=UTC:20250831T120000
DTEND;TZID=UTC:20250831T190000
DTSTAMP:20260420T101003
CREATED:20250117T162028Z
LAST-MODIFIED:20250609T213751Z
UID:14265-1756641600-1756666800@dacci.co.uk
SUMMARY:WE ARE ONE | PICNIC IN THE PARK 2025
DESCRIPTION:We Are One | Picnic in the Park\nImportant Information \n12:00 – Gates Open  \nFind your spot\, set-up and don’t forget to mingle. \nFeatures \nAfrican Drumming \nCarnival Troop Parade and Performance \nSteel Pans \nLocal Creatives \nRaffle \nRemembrance – Time to Remember \nCommunity Group Stalls \nGuest Speakers \nBouncing Castles \nPlay Tent with Sensory and Soft Play Toys \nSpace Hoppers \nGiant Jenga \nKids Fun Workshops \nKids Team Games \nFace Painting \nGiant 4-in-a-row \nJerk Pan \n360 Camera \nEntertainment \nPA System \nLocal DJs \nLocal Creatives Performances \n19:00 – Gates Close \nPlus\, \n\nFirst Aid\nAmenities (including disability provision)\nStewards\n\nFor Stalls and Pitches send your request to info@dacci.co.uk \nPlease note \n\nWe reserve the right to refuse entry.\nBy entering the venue\, you consent to the photography\, filming and recording of your likeness for use by the event team for any purpose and in all media.\nWell behaved dogs are welcome but must be kept on a lead at all times.\nWe will share updates and additional information via email.\nRestricted Parking. Please consider alternative methods of transport or car-share option.\n\nBook your spot and get ready to create memories with family and friends.
URL:https://dacci.co.uk/index.php/event/we-are-one-picnic-in-the-park-2025/
LOCATION:Sinfin Moor Park\, Derby\, DE24 9HW\, United Kingdom
CATEGORIES:Fundraiser,Health And Wellbeing,Outdoor Event,Physical Activity
ATTACH;FMTTYPE=application/pdf:https://dacci.co.uk/wp-content/uploads/2025/01/PICNIC-IN-THE-PARK-2025-3.pdf
ORGANIZER;CN="DACCI":MAILTO:info@dacci.co.uk
END:VEVENT
END:VCALENDAR